BEGIN:VCALENDAR
PRODID:-//iLaw//iCal4j 1.0//EN
VERSION:2.0
CALSCALE:GREGORIAN
BEGIN:VEVENT
DTSTAMP:20260420T131649Z
DTSTART;TZID=Europe/London:20200604T010000
DTEND;TZID=Europe/London:20200604T010000
SUMMARY:On demand bonds and performance guarantees - things to consider in light of COVID-19
END:VEVENT
END:VCALENDAR
