BEGIN:VCALENDAR
PRODID:-//iLaw//iCal4j 1.0//EN
VERSION:2.0
CALSCALE:GREGORIAN
BEGIN:VEVENT
DTSTAMP:20260420T070447Z
DTSTART;TZID=Europe/London:20201124T000000
DTEND;TZID=Europe/London:20201125T000000
SUMMARY:Advanced EU Competition Law 2020\, Brussels\, Belgium 
END:VEVENT
END:VCALENDAR
