BEGIN:VCALENDAR
PRODID:-//iLaw//iCal4j 1.0//EN
VERSION:2.0
CALSCALE:GREGORIAN
BEGIN:VEVENT
DTSTAMP:20260422T131211Z
DTSTART;TZID=Europe/London:20200604T010000
DTEND;TZID=Europe/London:20200827T010000
SUMMARY:Certificate in Marine Claims 
END:VEVENT
END:VCALENDAR
