BEGIN:VCALENDAR
PRODID:-//iLaw//iCal4j 1.0//EN
VERSION:2.0
CALSCALE:GREGORIAN
BEGIN:VEVENT
DTSTAMP:20260422T233347Z
DTSTART;TZID=Europe/London:20191210T000000
DTEND;TZID=Europe/London:20191210T000000
SUMMARY:Lloyds List Europe Awards\, London
END:VEVENT
END:VCALENDAR
