BEGIN:VCALENDAR
PRODID:-//iLaw//iCal4j 1.0//EN
VERSION:2.0
CALSCALE:GREGORIAN
BEGIN:VEVENT
DTSTAMP:20260425T103205Z
DTSTART;TZID=Europe/London:20191204T000000
DTEND;TZID=Europe/London:20191205T000000
SUMMARY:Salvage and Wreck Removal Conference\, London
END:VEVENT
END:VCALENDAR
